BEGIN:VCALENDAR
VERSION:2.0
PRODID:-//www.ywcalincoln.org//NONSGML kigkonsult.se iCalcreator 2.30.10//
CALSCALE:GREGORIAN
METHOD:PUBLISH
UID:1c4cf4b6-c362-40fe-a22a-c208675ae20b
X-WR-CALDESC:Goodwill Job Center\n1731 O Street \nLincoln\, NE 68508\n(402)
  477-4924\n\nNo Appointment Necessary
X-WR-RELCALID:ecf27bbce187fafd496f3df40a079272
X-WR-TIMEZONE:America/Chicago
BEGIN:VTIMEZONE
TZID:America/Chicago
BEGIN:STANDARD
TZNAME:CST
DTSTART:20301103T020000
TZOFFSETFROM:-0500
TZOFFSETTO:-0600
RDATE:20311102T020000
END:STANDARD
BEGIN:DAYLIGHT
TZNAME:CDT
DTSTART:20300310T020000
TZOFFSETFROM:-0600
TZOFFSETTO:-0500
RDATE:20310309T020000
RDATE:20320314T020000
END:DAYLIGHT
END:VTIMEZONE
BEGIN:VEVENT
UID:a583daf1-c750-43dd-94fe-644504967b34
DTSTAMP:20260423T154510Z
DESCRIPTION:Goodwill Job Center\n1731 O Street \nLincoln\, NE 68508\n(402) 
 477-4924\n\nNo Appointment Necessary
DTSTART;TZID=America/Chicago:20301114T130000
DTEND;TZID=America/Chicago:20301114T140000
LOCATION:Goodwill Job Center
SUMMARY:Job Outfitters
END:VEVENT
END:VCALENDAR
