BEGIN:VCALENDAR
VERSION:2.0
PRODID:-//www.ywcalincoln.org//NONSGML kigkonsult.se iCalcreator 2.30.10//
CALSCALE:GREGORIAN
METHOD:PUBLISH
UID:468cce0a-a75c-415c-859a-67821a1a728c
X-WR-CALDESC:Goodwill Job Center\n1731 O Street \nLincoln\, NE 68508\n(402)
  477-4924\n\nNo Appointment Necessary
X-WR-RELCALID:cbeac7bf40128475060eb561409e187c
X-WR-TIMEZONE:America/Chicago
BEGIN:VTIMEZONE
TZID:America/Chicago
BEGIN:STANDARD
TZNAME:CST
DTSTART:20271107T020000
TZOFFSETFROM:-0500
TZOFFSETTO:-0600
RDATE:20281105T020000
END:STANDARD
BEGIN:DAYLIGHT
TZNAME:CDT
DTSTART:20270314T020000
TZOFFSETFROM:-0600
TZOFFSETTO:-0500
RDATE:20280312T020000
RDATE:20290311T020000
END:DAYLIGHT
END:VTIMEZONE
BEGIN:VEVENT
UID:f55b810a-6ea2-45fd-8ae8-b118da2939c6
DTSTAMP:20260421T020958Z
DESCRIPTION:Goodwill Job Center\n1731 O Street \nLincoln\, NE 68508\n(402) 
 477-4924\n\nNo Appointment Necessary
DTSTART;TZID=America/Chicago:20271114T130000
DTEND;TZID=America/Chicago:20271114T140000
LOCATION:Goodwill Job Center
SUMMARY:Job Outfitters
END:VEVENT
END:VCALENDAR
