BEGIN:VCALENDAR
VERSION:2.0
PRODID:-//www.ywcalincoln.org//NONSGML kigkonsult.se iCalcreator 2.30.10//
CALSCALE:GREGORIAN
METHOD:PUBLISH
UID:8955ab46-2b64-4c7d-823d-549fd3ff3fe0
X-WR-CALDESC:Goodwill Job Center\n1731 O Street \nLincoln\, NE 68508\n(402)
  477-4924\n\nNo Appointment Necessary
X-WR-RELCALID:fd8c707a3248c29318d25f5cf312116c
X-WR-TIMEZONE:America/Chicago
BEGIN:VTIMEZONE
TZID:America/Chicago
BEGIN:STANDARD
TZNAME:CST
DTSTART:20251102T020000
TZOFFSETFROM:-0500
TZOFFSETTO:-0600
RDATE:20261101T020000
END:STANDARD
BEGIN:DAYLIGHT
TZNAME:CDT
DTSTART:20250309T020000
TZOFFSETFROM:-0600
TZOFFSETTO:-0500
RDATE:20260308T020000
RDATE:20270314T020000
END:DAYLIGHT
END:VTIMEZONE
BEGIN:VEVENT
UID:beef9a04-6bb4-467c-9e68-9deb5f648590
DTSTAMP:20260421T162502Z
DESCRIPTION:Goodwill Job Center\n1731 O Street \nLincoln\, NE 68508\n(402) 
 477-4924\n\nNo Appointment Necessary
DTSTART;TZID=America/Chicago:20251114T130000
DTEND;TZID=America/Chicago:20251114T140000
LOCATION:Goodwill Job Center
SUMMARY:Job Outfitters
END:VEVENT
END:VCALENDAR
