BEGIN:VCALENDAR
VERSION:2.0
PRODID:-//www.ywcalincoln.org//NONSGML kigkonsult.se iCalcreator 2.30.10//
CALSCALE:GREGORIAN
METHOD:PUBLISH
UID:c2446195-3afa-4735-adc0-c99d19800370
X-WR-CALDESC:
X-WR-RELCALID:fe073ed6bbf272774b6c866b12b8a8c8
X-WR-TIMEZONE:America/Chicago
BEGIN:VTIMEZONE
TZID:America/Chicago
BEGIN:STANDARD
TZNAME:CST
DTSTART:20241103T020000
TZOFFSETFROM:-0500
TZOFFSETTO:-0600
RDATE:20251102T020000
RDATE:20261101T020000
END:STANDARD
BEGIN:DAYLIGHT
TZNAME:CDT
DTSTART:20250309T020000
TZOFFSETFROM:-0600
TZOFFSETTO:-0500
RDATE:20260308T020000
RDATE:20270314T020000
END:DAYLIGHT
END:VTIMEZONE
BEGIN:VEVENT
UID:abf89370-317d-47c5-bb9d-11fce80e42cc
DTSTAMP:20260421T174636Z
DESCRIPTION:
DTSTART;TZID=America/Chicago:20251024T173000
DTEND;TZID=America/Chicago:20251024T193000
LOCATION:5631 S. 48th St.\, Suite 410\, Lincoln\, AL 68516 US
SUMMARY:YWCA Lincoln's 4th Annual Trunk or Treat
END:VEVENT
END:VCALENDAR
