BEGIN:VCALENDAR
VERSION:2.0
PRODID:-//www.ywcalincoln.org//NONSGML kigkonsult.se iCalcreator 2.30.10//
CALSCALE:GREGORIAN
METHOD:PUBLISH
UID:1c7672c7-157f-40ae-be5c-1962b275e3a0
X-WR-CALDESC:Goodwill Job Center\n1731 O Street \nLincoln\, NE 68508\n(402)
  477-4924\n\nNo Appointment Necessary
X-WR-RELCALID:b1b29eab58cf56b926b13822cc40434e
X-WR-TIMEZONE:America/Chicago
BEGIN:VTIMEZONE
TZID:America/Chicago
BEGIN:STANDARD
TZNAME:CST
DTSTART:20241103T020000
TZOFFSETFROM:-0500
TZOFFSETTO:-0600
RDATE:20251102T020000
END:STANDARD
BEGIN:DAYLIGHT
TZNAME:CDT
DTSTART:20240310T020000
TZOFFSETFROM:-0600
TZOFFSETTO:-0500
RDATE:20250309T020000
RDATE:20260308T020000
END:DAYLIGHT
END:VTIMEZONE
BEGIN:VEVENT
UID:12a98e89-44de-45bb-8674-9bf440d238ea
DTSTAMP:20260422T143018Z
DESCRIPTION:Goodwill Job Center\n1731 O Street \nLincoln\, NE 68508\n(402) 
 477-4924\n\nNo Appointment Necessary
DTSTART;TZID=America/Chicago:20241114T130000
DTEND;TZID=America/Chicago:20241114T140000
LOCATION:Goodwill Job Center
SUMMARY:Job Outfitters
END:VEVENT
END:VCALENDAR
