BEGIN:VCALENDAR
VERSION:2.0
PRODID:-//www.ywcalincoln.org//NONSGML kigkonsult.se iCalcreator 2.30.10//
CALSCALE:GREGORIAN
METHOD:PUBLISH
UID:e566dc8b-97f5-4b57-a71b-40ddfe2926cc
X-WR-CALDESC:YWCA Lincoln is hosting our 3rd Annual Trunk or Treat Winter K
 it Drive! Please stop by to receive some spooky candy and winter kit items
  such as scarves\, socks\, gloves\, and hats. We hope to see you on Thursd
 ay\, October 31st. A spooky good time starts at 5:30pm. \n\nWe would like 
 to thank our event sponsors\; Union Bank and Trust\, Molina Healthcare\, S
 cheels\, Bryan Health\, and Alpha Kappa Alpha Sorority\, Incorporated Psi 
 Chi Omega Chapter
X-WR-RELCALID:072d43bea1ed01237639e9d53ababd7e
X-WR-TIMEZONE:America/Chicago
BEGIN:VTIMEZONE
TZID:America/Chicago
BEGIN:STANDARD
TZNAME:CST
DTSTART:20231105T020000
TZOFFSETFROM:-0500
TZOFFSETTO:-0600
RDATE:20241103T020000
RDATE:20251102T020000
END:STANDARD
BEGIN:DAYLIGHT
TZNAME:CDT
DTSTART:20240310T020000
TZOFFSETFROM:-0600
TZOFFSETTO:-0500
RDATE:20250309T020000
RDATE:20260308T020000
END:DAYLIGHT
END:VTIMEZONE
BEGIN:VEVENT
UID:b9a8baea-86bb-405e-ac3e-d5ff7d2c559f
DTSTAMP:20260422T155243Z
DESCRIPTION:YWCA Lincoln is hosting our 3rd Annual Trunk or Treat Winter Ki
 t Drive! Please stop by to receive some spooky candy and winter kit items 
 such as scarves\, socks\, gloves\, and hats. We hope to see you on Thursda
 y\, October 31st. A spooky good time starts at 5:30pm. \n\nWe would like t
 o thank our event sponsors\; Union Bank and Trust\, Molina Healthcare\, Sc
 heels\, Bryan Health\, and Alpha Kappa Alpha Sorority\, Incorporated Psi C
 hi Omega Chapter
DTSTART;TZID=America/Chicago:20241031T173000
DTEND;TZID=America/Chicago:20241031T193000
LOCATION:5631 S. 48th St.\, Suite 410\, Lincoln\, NE 68516 US
SUMMARY:Trunk or Treat Winter Kit Drive
END:VEVENT
END:VCALENDAR
