BEGIN:VCALENDAR
VERSION:2.0
PRODID:-//www.ywcalincoln.org//NONSGML kigkonsult.se iCalcreator 2.30.10//
CALSCALE:GREGORIAN
METHOD:PUBLISH
UID:d07d03b6-95de-4e08-8050-dc1196aee4fc
X-WR-CALDESC:
X-WR-RELCALID:4df2d4f7e0bddcfdc3f8c361dbca840c
X-WR-TIMEZONE:America/Chicago
BEGIN:VTIMEZONE
TZID:America/Chicago
BEGIN:STANDARD
TZNAME:CST
DTSTART:20231105T020000
TZOFFSETFROM:-0500
TZOFFSETTO:-0600
RDATE:20241103T020000
RDATE:20251102T020000
END:STANDARD
BEGIN:DAYLIGHT
TZNAME:CDT
DTSTART:20240310T020000
TZOFFSETFROM:-0600
TZOFFSETTO:-0500
RDATE:20250309T020000
END:DAYLIGHT
END:VTIMEZONE
BEGIN:VEVENT
UID:61a9403a-426a-4bec-a00f-f2f473de87a9
DTSTAMP:20260423T003959Z
DESCRIPTION:
DTSTART;TZID=America/Chicago:20240506T144500
DTEND;TZID=America/Chicago:20240506T170000
LOCATION:
SUMMARY:Brownell Elementary SMART Girls Club
END:VEVENT
END:VCALENDAR
