BEGIN:VCALENDAR
VERSION:2.0
PRODID:-//www.ywcalincoln.org//NONSGML kigkonsult.se iCalcreator 2.30.10//
CALSCALE:GREGORIAN
METHOD:PUBLISH
UID:4a95995b-0c03-45c9-94a6-5dff2cb9800a
X-WR-CALDESC:
X-WR-RELCALID:bec9d984b85addcef20542040a2a8c51
X-WR-TIMEZONE:America/Chicago
BEGIN:VTIMEZONE
TZID:America/Chicago
BEGIN:STANDARD
TZNAME:CST
DTSTART:20231105T020000
TZOFFSETFROM:-0500
TZOFFSETTO:-0600
RDATE:20241103T020000
RDATE:20251102T020000
END:STANDARD
BEGIN:DAYLIGHT
TZNAME:CDT
DTSTART:20240310T020000
TZOFFSETFROM:-0600
TZOFFSETTO:-0500
RDATE:20250309T020000
END:DAYLIGHT
END:VTIMEZONE
BEGIN:VEVENT
UID:28d110fb-71d7-41e4-911d-ae242adf6654
DTSTAMP:20260423T003058Z
DESCRIPTION:
DTSTART;TZID=America/Chicago:20240504T000000
DTEND;TZID=America/Chicago:20240504T235900
LOCATION:
SUMMARY:SMART Girls Unite '23-'24
END:VEVENT
END:VCALENDAR
