BEGIN:VCALENDAR
VERSION:2.0
PRODID:-//www.ywcalincoln.org//NONSGML kigkonsult.se iCalcreator 2.30.10//
CALSCALE:GREGORIAN
METHOD:PUBLISH
UID:4f37c6ec-f5e0-4ea3-a48b-41da3fb13626
X-WR-CALDESC:
X-WR-RELCALID:ff6c61cd04ca5b532bd9564692bddaf5
X-WR-TIMEZONE:America/Chicago
BEGIN:VTIMEZONE
TZID:America/Chicago
BEGIN:STANDARD
TZNAME:CST
DTSTART:20231105T020000
TZOFFSETFROM:-0500
TZOFFSETTO:-0600
RDATE:20241103T020000
END:STANDARD
BEGIN:DAYLIGHT
TZNAME:CDT
DTSTART:20240310T020000
TZOFFSETFROM:-0600
TZOFFSETTO:-0500
RDATE:20250309T020000
END:DAYLIGHT
END:VTIMEZONE
BEGIN:VEVENT
UID:66d73e0a-f51c-4286-b1c4-4b0ec0cf30bd
DTSTAMP:20260423T003528Z
DESCRIPTION:
DTSTART;TZID=America/Chicago:20240502T093000
DTEND;TZID=America/Chicago:20240502T110500
LOCATION:
SUMMARY:Culler Middle School Girls Circle
END:VEVENT
END:VCALENDAR
