BEGIN:VCALENDAR
VERSION:2.0
PRODID:-//www.ywcalincoln.org//NONSGML kigkonsult.se iCalcreator 2.30.10//
CALSCALE:GREGORIAN
METHOD:PUBLISH
UID:517c8a95-9a5c-4ef7-a30f-18c3102fb297
X-WR-CALDESC:
X-WR-RELCALID:29f5ed8cb07659c5ea102109e98c7d22
X-WR-TIMEZONE:America/Chicago
BEGIN:VTIMEZONE
TZID:America/Chicago
BEGIN:STANDARD
TZNAME:CST
DTSTART:20231105T020000
TZOFFSETFROM:-0500
TZOFFSETTO:-0600
RDATE:20241103T020000
END:STANDARD
BEGIN:DAYLIGHT
TZNAME:CDT
DTSTART:20240310T020000
TZOFFSETFROM:-0600
TZOFFSETTO:-0500
RDATE:20250309T020000
END:DAYLIGHT
END:VTIMEZONE
BEGIN:VEVENT
UID:11f7e04a-71d5-4431-994d-ace98abd36e8
DTSTAMP:20260423T004245Z
DESCRIPTION:
DTSTART;TZID=America/Chicago:20240501T153000
DTEND;TZID=America/Chicago:20240501T163000
LOCATION:
SUMMARY:Irving Middle School SMART Girls Club
END:VEVENT
END:VCALENDAR
