BEGIN:VCALENDAR
VERSION:2.0
PRODID:-//www.ywcalincoln.org//NONSGML kigkonsult.se iCalcreator 2.30.10//
CALSCALE:GREGORIAN
METHOD:PUBLISH
UID:8a56f59d-911b-4388-b36a-b868d7d8b8d6
X-WR-CALDESC:
X-WR-RELCALID:3148ca3808ac6f7e2c806c2abca0f924
X-WR-TIMEZONE:America/Chicago
BEGIN:VTIMEZONE
TZID:America/Chicago
BEGIN:STANDARD
TZNAME:CST
DTSTART:20231105T020000
TZOFFSETFROM:-0500
TZOFFSETTO:-0600
RDATE:20241103T020000
END:STANDARD
BEGIN:DAYLIGHT
TZNAME:CDT
DTSTART:20240310T020000
TZOFFSETFROM:-0600
TZOFFSETTO:-0500
RDATE:20250309T020000
END:DAYLIGHT
END:VTIMEZONE
BEGIN:VEVENT
UID:bef1f1bb-06ea-4fbf-bca2-afaa208ccaae
DTSTAMP:20260423T022854Z
DESCRIPTION:
DTSTART;TZID=America/Chicago:20240429T144500
DTEND;TZID=America/Chicago:20240429T170000
LOCATION:
SUMMARY:Brownell Elementary SMART Girls Club
END:VEVENT
END:VCALENDAR
