BEGIN:VCALENDAR
VERSION:2.0
PRODID:-//www.ywcalincoln.org//NONSGML kigkonsult.se iCalcreator 2.30.10//
CALSCALE:GREGORIAN
METHOD:PUBLISH
UID:42327a23-de03-4740-bc6d-06d6d238d839
X-WR-CALDESC:Belmont Community Center
X-WR-RELCALID:71bedd536bacb8a9bcf962a70425c0a7
X-WR-TIMEZONE:America/Chicago
BEGIN:VTIMEZONE
TZID:America/Chicago
BEGIN:STANDARD
TZNAME:CST
DTSTART:20231105T020000
TZOFFSETFROM:-0500
TZOFFSETTO:-0600
RDATE:20241103T020000
END:STANDARD
BEGIN:DAYLIGHT
TZNAME:CDT
DTSTART:20240310T020000
TZOFFSETFROM:-0600
TZOFFSETTO:-0500
RDATE:20250309T020000
END:DAYLIGHT
END:VTIMEZONE
BEGIN:VEVENT
UID:f242ad3c-503e-40ee-a333-b2dd5064b4da
DTSTAMP:20260423T022047Z
DESCRIPTION:Belmont Community Center
DTSTART;TZID=America/Chicago:20240426T180000
DTEND;TZID=America/Chicago:20240426T200000
LOCATION:3335 N 12th St\, Lincoln\, NE 68521 US
SUMMARY:Take A Break
END:VEVENT
END:VCALENDAR
