BEGIN:VCALENDAR
VERSION:2.0
PRODID:-//www.ywcalincoln.org//NONSGML kigkonsult.se iCalcreator 2.30.10//
CALSCALE:GREGORIAN
METHOD:PUBLISH
UID:df5b113c-7041-4566-80b3-efb7c44ce346
X-WR-CALDESC:
X-WR-RELCALID:6f0665df2b0bf0b964c1f6a01a3874ef
X-WR-TIMEZONE:America/Chicago
BEGIN:VTIMEZONE
TZID:America/Chicago
BEGIN:STANDARD
TZNAME:CST
DTSTART:20231105T020000
TZOFFSETFROM:-0500
TZOFFSETTO:-0600
RDATE:20241103T020000
END:STANDARD
BEGIN:DAYLIGHT
TZNAME:CDT
DTSTART:20240310T020000
TZOFFSETFROM:-0600
TZOFFSETTO:-0500
RDATE:20250309T020000
END:DAYLIGHT
END:VTIMEZONE
BEGIN:VEVENT
UID:a8ac3ba4-55ee-4d30-9efb-6d63691b3df9
DTSTAMP:20260423T022721Z
DESCRIPTION:
DTSTART;TZID=America/Chicago:20240425T144500
DTEND;TZID=America/Chicago:20240425T160000
LOCATION:
SUMMARY:Belmont Elementary SMART Girls Club
END:VEVENT
END:VCALENDAR
