BEGIN:VCALENDAR
VERSION:2.0
PRODID:-//www.ywcalincoln.org//NONSGML kigkonsult.se iCalcreator 2.30.10//
CALSCALE:GREGORIAN
METHOD:PUBLISH
UID:59e9aad7-496a-43d9-85ca-04335aff4cf4
X-WR-CALDESC:
X-WR-RELCALID:a6fa18bf8a27be02441a372b9794c7b9
X-WR-TIMEZONE:America/Chicago
BEGIN:VTIMEZONE
TZID:America/Chicago
BEGIN:STANDARD
TZNAME:CST
DTSTART:20231105T020000
TZOFFSETFROM:-0500
TZOFFSETTO:-0600
RDATE:20241103T020000
END:STANDARD
BEGIN:DAYLIGHT
TZNAME:CDT
DTSTART:20240310T020000
TZOFFSETFROM:-0600
TZOFFSETTO:-0500
RDATE:20250309T020000
END:DAYLIGHT
END:VTIMEZONE
BEGIN:VEVENT
UID:f5d763e9-4f28-4f17-84aa-43b827346e49
DTSTAMP:20260423T022853Z
DESCRIPTION:
DTSTART;TZID=America/Chicago:20240422T144500
DTEND;TZID=America/Chicago:20240422T170000
LOCATION:
SUMMARY:Brownell Elementary SMART Girls Club
END:VEVENT
END:VCALENDAR
