BEGIN:VCALENDAR
VERSION:2.0
PRODID:-//www.ywcalincoln.org//NONSGML kigkonsult.se iCalcreator 2.30.10//
CALSCALE:GREGORIAN
METHOD:PUBLISH
UID:e55ff91f-dd61-496f-8203-7490ad6a1e18
X-WR-CALDESC:
X-WR-RELCALID:8b8a5aa407e2f1627eee421a1002169b
X-WR-TIMEZONE:America/Chicago
BEGIN:VTIMEZONE
TZID:America/Chicago
BEGIN:STANDARD
TZNAME:CST
DTSTART:20231105T020000
TZOFFSETFROM:-0500
TZOFFSETTO:-0600
RDATE:20241103T020000
END:STANDARD
BEGIN:DAYLIGHT
TZNAME:CDT
DTSTART:20240310T020000
TZOFFSETFROM:-0600
TZOFFSETTO:-0500
RDATE:20250309T020000
END:DAYLIGHT
END:VTIMEZONE
BEGIN:VEVENT
UID:e8a35575-690b-4308-a8a5-8ef8c806cb34
DTSTAMP:20260423T023029Z
DESCRIPTION:
DTSTART;TZID=America/Chicago:20240417T153000
DTEND;TZID=America/Chicago:20240417T163000
LOCATION:
SUMMARY:Irving Middle School SMART Girls Club
END:VEVENT
END:VCALENDAR
