BEGIN:VCALENDAR
VERSION:2.0
PRODID:-//www.ywcalincoln.org//NONSGML kigkonsult.se iCalcreator 2.30.10//
CALSCALE:GREGORIAN
METHOD:PUBLISH
UID:9156043e-9cd6-4622-b060-184001d7eaae
X-WR-CALDESC:Belmont Community Center
X-WR-RELCALID:6eeacf7448716bb2bed1412f8a1b0968
X-WR-TIMEZONE:America/Chicago
BEGIN:VTIMEZONE
TZID:America/Chicago
BEGIN:STANDARD
TZNAME:CST
DTSTART:20231105T020000
TZOFFSETFROM:-0500
TZOFFSETTO:-0600
RDATE:20241103T020000
END:STANDARD
BEGIN:DAYLIGHT
TZNAME:CDT
DTSTART:20240310T020000
TZOFFSETFROM:-0600
TZOFFSETTO:-0500
RDATE:20250309T020000
END:DAYLIGHT
END:VTIMEZONE
BEGIN:VEVENT
UID:3ad8188e-14bc-4d85-a9a6-106410b61c57
DTSTAMP:20260423T021443Z
DESCRIPTION:Belmont Community Center
DTSTART;TZID=America/Chicago:20240412T180000
DTEND;TZID=America/Chicago:20240412T200000
LOCATION:3335 N 12th St\, Lincoln\, NE 68521 US
SUMMARY:Take A Break
END:VEVENT
END:VCALENDAR
