BEGIN:VCALENDAR
VERSION:2.0
PRODID:-//www.ywcalincoln.org//NONSGML kigkonsult.se iCalcreator 2.30.10//
CALSCALE:GREGORIAN
METHOD:PUBLISH
UID:c3b6ab17-fcf0-43d7-9cbb-436e2f972fc2
X-WR-CALDESC:
X-WR-RELCALID:c26668dd8539ec4bb8fd0034dad67736
X-WR-TIMEZONE:America/Chicago
BEGIN:VTIMEZONE
TZID:America/Chicago
BEGIN:STANDARD
TZNAME:CST
DTSTART:20231105T020000
TZOFFSETFROM:-0500
TZOFFSETTO:-0600
RDATE:20241103T020000
END:STANDARD
BEGIN:DAYLIGHT
TZNAME:CDT
DTSTART:20240310T020000
TZOFFSETFROM:-0600
TZOFFSETTO:-0500
RDATE:20250309T020000
END:DAYLIGHT
END:VTIMEZONE
BEGIN:VEVENT
UID:d763167a-7827-4c52-b455-0c1062b5d1e6
DTSTAMP:20260423T022733Z
DESCRIPTION:
DTSTART;TZID=America/Chicago:20240411T144500
DTEND;TZID=America/Chicago:20240411T160000
LOCATION:
SUMMARY:Belmont Elementary SMART Girls Club
END:VEVENT
END:VCALENDAR
