BEGIN:VCALENDAR
VERSION:2.0
PRODID:-//www.ywcalincoln.org//NONSGML kigkonsult.se iCalcreator 2.30.10//
CALSCALE:GREGORIAN
METHOD:PUBLISH
UID:ca198565-cbca-4a4e-a123-34eb7181c81a
X-WR-CALDESC:
X-WR-RELCALID:8a062b390bf3bd5d2ccb5929694571f7
X-WR-TIMEZONE:America/Chicago
BEGIN:VTIMEZONE
TZID:America/Chicago
BEGIN:STANDARD
TZNAME:CST
DTSTART:20231105T020000
TZOFFSETFROM:-0500
TZOFFSETTO:-0600
RDATE:20241103T020000
END:STANDARD
BEGIN:DAYLIGHT
TZNAME:CDT
DTSTART:20240310T020000
TZOFFSETFROM:-0600
TZOFFSETTO:-0500
RDATE:20250309T020000
END:DAYLIGHT
END:VTIMEZONE
BEGIN:VEVENT
UID:05ad4041-4cd9-47d4-8863-c83f1fe5565d
DTSTAMP:20260423T022943Z
DESCRIPTION:
DTSTART;TZID=America/Chicago:20240410T144500
DTEND;TZID=America/Chicago:20240410T160000
LOCATION:
SUMMARY:Beattie Elementary School SMART Girls Club
END:VEVENT
END:VCALENDAR
