BEGIN:VCALENDAR
VERSION:2.0
PRODID:-//www.ywcalincoln.org//NONSGML kigkonsult.se iCalcreator 2.30.10//
CALSCALE:GREGORIAN
METHOD:PUBLISH
UID:60c050b4-4435-4f16-bbba-add12e8d5250
X-WR-CALDESC:
X-WR-RELCALID:93944fc7e96b4b59237117936a4a1f49
X-WR-TIMEZONE:America/Chicago
BEGIN:VTIMEZONE
TZID:America/Chicago
BEGIN:STANDARD
TZNAME:CST
DTSTART:20231105T020000
TZOFFSETFROM:-0500
TZOFFSETTO:-0600
RDATE:20241103T020000
END:STANDARD
BEGIN:DAYLIGHT
TZNAME:CDT
DTSTART:20240310T020000
TZOFFSETFROM:-0600
TZOFFSETTO:-0500
RDATE:20250309T020000
END:DAYLIGHT
END:VTIMEZONE
BEGIN:VEVENT
UID:7c69ab14-f4cf-4a28-a1d5-ed5223fe48d7
DTSTAMP:20260423T022722Z
DESCRIPTION:
DTSTART;TZID=America/Chicago:20240408T144500
DTEND;TZID=America/Chicago:20240408T170000
LOCATION:
SUMMARY:Brownell Elementary SMART Girls Club
END:VEVENT
END:VCALENDAR
