BEGIN:VCALENDAR
VERSION:2.0
PRODID:-//www.ywcalincoln.org//NONSGML kigkonsult.se iCalcreator 2.30.10//
CALSCALE:GREGORIAN
METHOD:PUBLISH
UID:5e8a9eab-1c70-4e55-8c21-0d3041cba746
X-WR-CALDESC:
X-WR-RELCALID:0084432c624788f4a4157bba871bba1d
X-WR-TIMEZONE:America/Chicago
BEGIN:VTIMEZONE
TZID:America/Chicago
BEGIN:STANDARD
TZNAME:CST
DTSTART:20231105T020000
TZOFFSETFROM:-0500
TZOFFSETTO:-0600
RDATE:20241103T020000
END:STANDARD
BEGIN:DAYLIGHT
TZNAME:CDT
DTSTART:20240310T020000
TZOFFSETFROM:-0600
TZOFFSETTO:-0500
RDATE:20250309T020000
END:DAYLIGHT
END:VTIMEZONE
BEGIN:VEVENT
UID:81e5128d-e577-499b-815c-c6aa0e5d8559
DTSTAMP:20260423T042143Z
DESCRIPTION:
DTSTART;TZID=America/Chicago:20240328T093000
DTEND;TZID=America/Chicago:20240328T110500
LOCATION:
SUMMARY:Culler Middle School Girls Circle
END:VEVENT
END:VCALENDAR
