BEGIN:VCALENDAR
VERSION:2.0
PRODID:-//www.ywcalincoln.org//NONSGML kigkonsult.se iCalcreator 2.30.10//
CALSCALE:GREGORIAN
METHOD:PUBLISH
UID:884800a0-9321-4cfa-a4f5-d210c34fea8d
X-WR-CALDESC:
X-WR-RELCALID:57a6b4a4fd991f1c499135e6fbb53c09
X-WR-TIMEZONE:America/Chicago
BEGIN:VTIMEZONE
TZID:America/Chicago
BEGIN:STANDARD
TZNAME:CST
DTSTART:20231105T020000
TZOFFSETFROM:-0500
TZOFFSETTO:-0600
RDATE:20241103T020000
END:STANDARD
BEGIN:DAYLIGHT
TZNAME:CDT
DTSTART:20240310T020000
TZOFFSETFROM:-0600
TZOFFSETTO:-0500
RDATE:20250309T020000
END:DAYLIGHT
END:VTIMEZONE
BEGIN:VEVENT
UID:19937901-6b20-4b93-9f67-0b462d864a55
DTSTAMP:20260423T042630Z
DESCRIPTION:
DTSTART;TZID=America/Chicago:20240327T153000
DTEND;TZID=America/Chicago:20240327T163000
LOCATION:
SUMMARY:Irving Middle School SMART Girls Club
END:VEVENT
END:VCALENDAR
