BEGIN:VCALENDAR
VERSION:2.0
PRODID:-//www.ywcalincoln.org//NONSGML kigkonsult.se iCalcreator 2.30.10//
CALSCALE:GREGORIAN
METHOD:PUBLISH
UID:4eb23d59-7df6-4886-8bbb-5ed70690ba5b
X-WR-CALDESC:Belmont Community Center
X-WR-RELCALID:f848e9dabd8a3045c2da11116d21957e
X-WR-TIMEZONE:America/Chicago
BEGIN:VTIMEZONE
TZID:America/Chicago
BEGIN:STANDARD
TZNAME:CST
DTSTART:20231105T020000
TZOFFSETFROM:-0500
TZOFFSETTO:-0600
RDATE:20241103T020000
END:STANDARD
BEGIN:DAYLIGHT
TZNAME:CDT
DTSTART:20240310T020000
TZOFFSETFROM:-0600
TZOFFSETTO:-0500
RDATE:20250309T020000
END:DAYLIGHT
END:VTIMEZONE
BEGIN:VEVENT
UID:428ee05d-e166-4d1e-a415-24bb846ea739
DTSTAMP:20260423T041653Z
DESCRIPTION:Belmont Community Center
DTSTART;TZID=America/Chicago:20240322T180000
DTEND;TZID=America/Chicago:20240322T200000
LOCATION:3335 N 12th St\, Lincoln\, NE 68521 US
SUMMARY:Take A Break
END:VEVENT
END:VCALENDAR
