BEGIN:VCALENDAR
VERSION:2.0
PRODID:-//www.ywcalincoln.org//NONSGML kigkonsult.se iCalcreator 2.30.10//
CALSCALE:GREGORIAN
METHOD:PUBLISH
UID:e51c7069-81f7-4764-9de5-2f30c4e48a0e
X-WR-CALDESC:
X-WR-RELCALID:6bf505960bf844ac6dc22a7533768885
X-WR-TIMEZONE:America/Chicago
BEGIN:VTIMEZONE
TZID:America/Chicago
BEGIN:STANDARD
TZNAME:CST
DTSTART:20231105T020000
TZOFFSETFROM:-0500
TZOFFSETTO:-0600
RDATE:20241103T020000
END:STANDARD
BEGIN:DAYLIGHT
TZNAME:CDT
DTSTART:20240310T020000
TZOFFSETFROM:-0600
TZOFFSETTO:-0500
RDATE:20250309T020000
END:DAYLIGHT
END:VTIMEZONE
BEGIN:VEVENT
UID:727b95a1-3391-4189-879d-7b2587c46b35
DTSTAMP:20260423T041846Z
DESCRIPTION:
DTSTART;TZID=America/Chicago:20240321T094500
DTEND;TZID=America/Chicago:20240321T114500
LOCATION:
SUMMARY:Irving Middle School Girls Circle
END:VEVENT
END:VCALENDAR
