BEGIN:VCALENDAR
VERSION:2.0
PRODID:-//www.ywcalincoln.org//NONSGML kigkonsult.se iCalcreator 2.30.10//
CALSCALE:GREGORIAN
METHOD:PUBLISH
UID:23a7556d-ac57-47ba-9153-0ba7275b0c0e
X-WR-CALDESC:
X-WR-RELCALID:723e0e8de7882bc08d13778246ed1415
X-WR-TIMEZONE:America/Chicago
BEGIN:VTIMEZONE
TZID:America/Chicago
BEGIN:STANDARD
TZNAME:CST
DTSTART:20231105T020000
TZOFFSETFROM:-0500
TZOFFSETTO:-0600
RDATE:20241103T020000
END:STANDARD
BEGIN:DAYLIGHT
TZNAME:CDT
DTSTART:20240310T020000
TZOFFSETFROM:-0600
TZOFFSETTO:-0500
RDATE:20250309T020000
END:DAYLIGHT
END:VTIMEZONE
BEGIN:VEVENT
UID:6a232b2c-a4b0-45aa-8b0a-4fd9f2c2afb1
DTSTAMP:20260423T041849Z
DESCRIPTION:
DTSTART;TZID=America/Chicago:20240321T093000
DTEND;TZID=America/Chicago:20240321T110500
LOCATION:
SUMMARY:Culler Middle School Girls Circle
END:VEVENT
END:VCALENDAR
