BEGIN:VCALENDAR
VERSION:2.0
PRODID:-//www.ywcalincoln.org//NONSGML kigkonsult.se iCalcreator 2.30.10//
CALSCALE:GREGORIAN
METHOD:PUBLISH
UID:73e347ab-d189-4fa4-a3b7-da65a904718e
X-WR-CALDESC:
X-WR-RELCALID:8225ef3ba008a628ca8d18c803071bb1
X-WR-TIMEZONE:America/Chicago
BEGIN:VTIMEZONE
TZID:America/Chicago
BEGIN:STANDARD
TZNAME:CST
DTSTART:20231105T020000
TZOFFSETFROM:-0500
TZOFFSETTO:-0600
RDATE:20241103T020000
END:STANDARD
BEGIN:DAYLIGHT
TZNAME:CDT
DTSTART:20240310T020000
TZOFFSETFROM:-0600
TZOFFSETTO:-0500
RDATE:20250309T020000
END:DAYLIGHT
END:VTIMEZONE
BEGIN:VEVENT
UID:8ee6632e-2224-4697-b17a-a42275b9b9d0
DTSTAMP:20260423T042433Z
DESCRIPTION:
DTSTART;TZID=America/Chicago:20240320T144500
DTEND;TZID=America/Chicago:20240320T160000
LOCATION:
SUMMARY:Beattie Elementary School SMART Girls Club
END:VEVENT
END:VCALENDAR
