BEGIN:VCALENDAR
VERSION:2.0
PRODID:-//www.ywcalincoln.org//NONSGML kigkonsult.se iCalcreator 2.30.10//
CALSCALE:GREGORIAN
METHOD:PUBLISH
UID:c89b0936-7cca-4b02-89ca-79df4bab2b0a
X-WR-CALDESC:
X-WR-RELCALID:524d4b97ab577e2e0f81b2f7ade61670
X-WR-TIMEZONE:America/Chicago
BEGIN:VTIMEZONE
TZID:America/Chicago
BEGIN:STANDARD
TZNAME:CST
DTSTART:20231105T020000
TZOFFSETFROM:-0500
TZOFFSETTO:-0600
RDATE:20241103T020000
END:STANDARD
BEGIN:DAYLIGHT
TZNAME:CDT
DTSTART:20240310T020000
TZOFFSETFROM:-0600
TZOFFSETTO:-0500
RDATE:20250309T020000
END:DAYLIGHT
END:VTIMEZONE
BEGIN:VEVENT
UID:7637abc7-9f14-449a-b3c2-f64650c30ab4
DTSTAMP:20260423T042226Z
DESCRIPTION:
DTSTART;TZID=America/Chicago:20240314T094500
DTEND;TZID=America/Chicago:20240314T114500
LOCATION:
SUMMARY:Irving Middle School Girls Circle
END:VEVENT
END:VCALENDAR
