BEGIN:VCALENDAR
VERSION:2.0
PRODID:-//www.ywcalincoln.org//NONSGML kigkonsult.se iCalcreator 2.30.10//
CALSCALE:GREGORIAN
METHOD:PUBLISH
UID:ce4b09a5-a922-4b18-b5e5-9ab9147d6095
X-WR-CALDESC:
X-WR-RELCALID:cf0e020ad98aa4d78bc9a992234bc6d2
X-WR-TIMEZONE:America/Chicago
BEGIN:VTIMEZONE
TZID:America/Chicago
BEGIN:STANDARD
TZNAME:CST
DTSTART:20231105T020000
TZOFFSETFROM:-0500
TZOFFSETTO:-0600
RDATE:20241103T020000
END:STANDARD
BEGIN:DAYLIGHT
TZNAME:CDT
DTSTART:20240310T020000
TZOFFSETFROM:-0600
TZOFFSETTO:-0500
RDATE:20250309T020000
END:DAYLIGHT
END:VTIMEZONE
BEGIN:VEVENT
UID:899684c1-e422-4980-9000-76a6db13f714
DTSTAMP:20260423T042557Z
DESCRIPTION:
DTSTART;TZID=America/Chicago:20240313T153000
DTEND;TZID=America/Chicago:20240313T163000
LOCATION:
SUMMARY:Irving Middle School SMART Girls Club
END:VEVENT
END:VCALENDAR
