BEGIN:VCALENDAR
VERSION:2.0
PRODID:-//www.ywcalincoln.org//NONSGML kigkonsult.se iCalcreator 2.30.10//
CALSCALE:GREGORIAN
METHOD:PUBLISH
UID:63b162fd-58a9-47f3-a28a-c9aeb15f3e3c
X-WR-CALDESC:Belmont Community Center
X-WR-RELCALID:caff6022728503a7d7ca84e36b7398c7
X-WR-TIMEZONE:America/Chicago
BEGIN:VTIMEZONE
TZID:America/Chicago
BEGIN:STANDARD
TZNAME:CST
DTSTART:20231105T020000
TZOFFSETFROM:-0500
TZOFFSETTO:-0600
RDATE:20241103T020000
END:STANDARD
BEGIN:DAYLIGHT
TZNAME:CDT
DTSTART:20230312T020000
TZOFFSETFROM:-0600
TZOFFSETTO:-0500
RDATE:20240310T020000
RDATE:20250309T020000
END:DAYLIGHT
END:VTIMEZONE
BEGIN:VEVENT
UID:4950427b-a480-49d7-b260-fbd99300619f
DTSTAMP:20260423T041209Z
DESCRIPTION:Belmont Community Center
DTSTART;TZID=America/Chicago:20240308T180000
DTEND;TZID=America/Chicago:20240308T200000
LOCATION:3335 N 12th St\, Lincoln\, NE 68521 US
SUMMARY:Take A Break
END:VEVENT
END:VCALENDAR
