BEGIN:VCALENDAR
VERSION:2.0
PRODID:-//www.ywcalincoln.org//NONSGML kigkonsult.se iCalcreator 2.30.10//
CALSCALE:GREGORIAN
METHOD:PUBLISH
UID:37ab0bf3-ef16-4b3e-8aed-2c81ae842f45
X-WR-CALDESC:
X-WR-RELCALID:bc592035c7e3dbbd328a9223bf2e3b21
X-WR-TIMEZONE:America/Chicago
BEGIN:VTIMEZONE
TZID:America/Chicago
BEGIN:STANDARD
TZNAME:CST
DTSTART:20231105T020000
TZOFFSETFROM:-0500
TZOFFSETTO:-0600
RDATE:20241103T020000
END:STANDARD
BEGIN:DAYLIGHT
TZNAME:CDT
DTSTART:20230312T020000
TZOFFSETFROM:-0600
TZOFFSETTO:-0500
RDATE:20240310T020000
RDATE:20250309T020000
END:DAYLIGHT
END:VTIMEZONE
BEGIN:VEVENT
UID:e2e152a1-c938-49f0-901f-fce88c092557
DTSTAMP:20260423T041047Z
DESCRIPTION:
DTSTART;TZID=America/Chicago:20240304T153000
DTEND;TZID=America/Chicago:20240304T170000
LOCATION:
SUMMARY:Lincoln High School CATCH Program
END:VEVENT
END:VCALENDAR
