BEGIN:VCALENDAR
VERSION:2.0
PRODID:-//www.ywcalincoln.org//NONSGML kigkonsult.se iCalcreator 2.30.10//
CALSCALE:GREGORIAN
METHOD:PUBLISH
UID:2d1c0bed-648a-40ae-a5db-5aae69ea3b7c
X-WR-CALDESC:
X-WR-RELCALID:d93420c5bb0ebab8e34dbd9dff249bf5
X-WR-TIMEZONE:America/Chicago
BEGIN:VTIMEZONE
TZID:America/Chicago
BEGIN:STANDARD
TZNAME:CST
DTSTART:20231105T020000
TZOFFSETFROM:-0500
TZOFFSETTO:-0600
RDATE:20241103T020000
END:STANDARD
BEGIN:DAYLIGHT
TZNAME:CDT
DTSTART:20230312T020000
TZOFFSETFROM:-0600
TZOFFSETTO:-0500
RDATE:20240310T020000
RDATE:20250309T020000
END:DAYLIGHT
END:VTIMEZONE
BEGIN:VEVENT
UID:1bfa5a09-53f9-4677-8970-31cd4d71ae95
DTSTAMP:20260423T041820Z
DESCRIPTION:
DTSTART;TZID=America/Chicago:20240301T000000
DTEND;TZID=America/Chicago:20240331T233000
LOCATION:
SUMMARY:Women's History Month
END:VEVENT
END:VCALENDAR
