BEGIN:VCALENDAR
VERSION:2.0
PRODID:-//www.ywcalincoln.org//NONSGML kigkonsult.se iCalcreator 2.30.10//
CALSCALE:GREGORIAN
METHOD:PUBLISH
UID:15f19b47-69bd-4ca9-9545-a556b4448871
X-WR-CALDESC:
X-WR-RELCALID:eb5356a38b85de02745d6f9831be7375
X-WR-TIMEZONE:America/Chicago
BEGIN:VTIMEZONE
TZID:America/Chicago
BEGIN:STANDARD
TZNAME:CST
DTSTART:20231105T020000
TZOFFSETFROM:-0500
TZOFFSETTO:-0600
RDATE:20241103T020000
END:STANDARD
BEGIN:DAYLIGHT
TZNAME:CDT
DTSTART:20230312T020000
TZOFFSETFROM:-0600
TZOFFSETTO:-0500
RDATE:20240310T020000
RDATE:20250309T020000
END:DAYLIGHT
END:VTIMEZONE
BEGIN:VEVENT
UID:967aa17a-691d-4d90-af32-e11cda536eee
DTSTAMP:20260423T060519Z
DESCRIPTION:
DTSTART;TZID=America/Chicago:20240229T144500
DTEND;TZID=America/Chicago:20240229T160000
LOCATION:
SUMMARY:Belmont Elementary SMART Girls Club
END:VEVENT
END:VCALENDAR
