BEGIN:VCALENDAR
VERSION:2.0
PRODID:-//www.ywcalincoln.org//NONSGML kigkonsult.se iCalcreator 2.30.10//
CALSCALE:GREGORIAN
METHOD:PUBLISH
UID:3b905791-ab2e-4557-92e1-06bd3b399985
X-WR-CALDESC:
X-WR-RELCALID:520e0d67f353cd3e9f01223190153311
X-WR-TIMEZONE:America/Chicago
BEGIN:VTIMEZONE
TZID:America/Chicago
BEGIN:STANDARD
TZNAME:CST
DTSTART:20231105T020000
TZOFFSETFROM:-0500
TZOFFSETTO:-0600
RDATE:20241103T020000
END:STANDARD
BEGIN:DAYLIGHT
TZNAME:CDT
DTSTART:20230312T020000
TZOFFSETFROM:-0600
TZOFFSETTO:-0500
RDATE:20240310T020000
RDATE:20250309T020000
END:DAYLIGHT
END:VTIMEZONE
BEGIN:VEVENT
UID:cb4859d2-dbb2-4f29-a6cb-7523bb94f7d3
DTSTAMP:20260423T060048Z
DESCRIPTION:
DTSTART;TZID=America/Chicago:20240229T093000
DTEND;TZID=America/Chicago:20240229T110500
LOCATION:
SUMMARY:Culler Middle School Girls Circle
END:VEVENT
END:VCALENDAR
