BEGIN:VCALENDAR
VERSION:2.0
PRODID:-//www.ywcalincoln.org//NONSGML kigkonsult.se iCalcreator 2.30.10//
CALSCALE:GREGORIAN
METHOD:PUBLISH
UID:4c698297-b33c-403d-883c-6b6965ad4a42
X-WR-CALDESC:
X-WR-RELCALID:4c176c8efde4eb3f2bf1d493e5760fad
X-WR-TIMEZONE:America/Chicago
BEGIN:VTIMEZONE
TZID:America/Chicago
BEGIN:STANDARD
TZNAME:CST
DTSTART:20231105T020000
TZOFFSETFROM:-0500
TZOFFSETTO:-0600
RDATE:20241103T020000
END:STANDARD
BEGIN:DAYLIGHT
TZNAME:CDT
DTSTART:20230312T020000
TZOFFSETFROM:-0600
TZOFFSETTO:-0500
RDATE:20240310T020000
RDATE:20250309T020000
END:DAYLIGHT
END:VTIMEZONE
BEGIN:VEVENT
UID:b8e5feac-d2cb-456f-9931-eccbb85c1b36
DTSTAMP:20260423T060545Z
DESCRIPTION:
DTSTART;TZID=America/Chicago:20240226T153000
DTEND;TZID=America/Chicago:20240226T170000
LOCATION:
SUMMARY:Lincoln High School CATCH Program with Guest Speaker: UBT Financial
  Literacy
END:VEVENT
END:VCALENDAR
