BEGIN:VCALENDAR
VERSION:2.0
PRODID:-//www.ywcalincoln.org//NONSGML kigkonsult.se iCalcreator 2.30.10//
CALSCALE:GREGORIAN
METHOD:PUBLISH
UID:cb10ce8f-5e6e-472c-8545-d8c129383506
X-WR-CALDESC:
X-WR-RELCALID:d1a702bf8c020f9afca91030e0e365b3
X-WR-TIMEZONE:America/Chicago
BEGIN:VTIMEZONE
TZID:America/Chicago
BEGIN:STANDARD
TZNAME:CST
DTSTART:20231105T020000
TZOFFSETFROM:-0500
TZOFFSETTO:-0600
RDATE:20241103T020000
END:STANDARD
BEGIN:DAYLIGHT
TZNAME:CDT
DTSTART:20230312T020000
TZOFFSETFROM:-0600
TZOFFSETTO:-0500
RDATE:20240310T020000
RDATE:20250309T020000
END:DAYLIGHT
END:VTIMEZONE
BEGIN:VEVENT
UID:ef0145c9-2d29-4765-8bf4-b446f92bcebf
DTSTAMP:20260423T060637Z
DESCRIPTION:
DTSTART;TZID=America/Chicago:20240226T144500
DTEND;TZID=America/Chicago:20240226T170000
LOCATION:
SUMMARY:Brownell Elementary SMART Girls Club
END:VEVENT
END:VCALENDAR
