BEGIN:VCALENDAR
VERSION:2.0
PRODID:-//www.ywcalincoln.org//NONSGML kigkonsult.se iCalcreator 2.30.10//
CALSCALE:GREGORIAN
METHOD:PUBLISH
UID:88341610-abc3-4ef5-ad8f-f514e4871ab0
X-WR-CALDESC:Belmont Community Center
X-WR-RELCALID:94db2199a2d5b5080949b23b33a0c862
X-WR-TIMEZONE:America/Chicago
BEGIN:VTIMEZONE
TZID:America/Chicago
BEGIN:STANDARD
TZNAME:CST
DTSTART:20231105T020000
TZOFFSETFROM:-0500
TZOFFSETTO:-0600
RDATE:20241103T020000
END:STANDARD
BEGIN:DAYLIGHT
TZNAME:CDT
DTSTART:20230312T020000
TZOFFSETFROM:-0600
TZOFFSETTO:-0500
RDATE:20240310T020000
RDATE:20250309T020000
END:DAYLIGHT
END:VTIMEZONE
BEGIN:VEVENT
UID:c4e4378d-531c-4302-855a-5600fa526602
DTSTAMP:20260423T055906Z
DESCRIPTION:Belmont Community Center
DTSTART;TZID=America/Chicago:20240223T180000
DTEND;TZID=America/Chicago:20240223T200000
LOCATION:3335 N 12th St\, Lincoln\, NE 68521 US
SUMMARY:Take A Break
END:VEVENT
END:VCALENDAR
