BEGIN:VCALENDAR
VERSION:2.0
PRODID:-//www.ywcalincoln.org//NONSGML kigkonsult.se iCalcreator 2.30.10//
CALSCALE:GREGORIAN
METHOD:PUBLISH
UID:603411e4-7b56-4ddb-a719-01d4b8a8511c
X-WR-CALDESC:
X-WR-RELCALID:2ecfe6f209b5b57dab5e379b3c3805d2
X-WR-TIMEZONE:America/Chicago
BEGIN:VTIMEZONE
TZID:America/Chicago
BEGIN:STANDARD
TZNAME:CST
DTSTART:20231105T020000
TZOFFSETFROM:-0500
TZOFFSETTO:-0600
RDATE:20241103T020000
END:STANDARD
BEGIN:DAYLIGHT
TZNAME:CDT
DTSTART:20230312T020000
TZOFFSETFROM:-0600
TZOFFSETTO:-0500
RDATE:20240310T020000
RDATE:20250309T020000
END:DAYLIGHT
END:VTIMEZONE
BEGIN:VEVENT
UID:15449bb3-bd6a-41ce-bc91-78090124f076
DTSTAMP:20260423T060709Z
DESCRIPTION:
DTSTART;TZID=America/Chicago:20240221T153000
DTEND;TZID=America/Chicago:20240221T163000
LOCATION:
SUMMARY:Irving Middle School SMART Girls Club
END:VEVENT
END:VCALENDAR
