BEGIN:VCALENDAR
VERSION:2.0
PRODID:-//www.ywcalincoln.org//NONSGML kigkonsult.se iCalcreator 2.30.10//
CALSCALE:GREGORIAN
METHOD:PUBLISH
UID:b1c7e9f8-6102-4286-9e62-1e66166306b3
X-WR-CALDESC:
X-WR-RELCALID:43049d36ee054be4168a0c618a10effd
X-WR-TIMEZONE:America/Chicago
BEGIN:VTIMEZONE
TZID:America/Chicago
BEGIN:STANDARD
TZNAME:CST
DTSTART:20231105T020000
TZOFFSETFROM:-0500
TZOFFSETTO:-0600
RDATE:20241103T020000
END:STANDARD
BEGIN:DAYLIGHT
TZNAME:CDT
DTSTART:20230312T020000
TZOFFSETFROM:-0600
TZOFFSETTO:-0500
RDATE:20240310T020000
RDATE:20250309T020000
END:DAYLIGHT
END:VTIMEZONE
BEGIN:VEVENT
UID:0f31ec54-41b0-4b08-89e2-9e693f69e41a
DTSTAMP:20260423T060545Z
DESCRIPTION:
DTSTART;TZID=America/Chicago:20240221T144500
DTEND;TZID=America/Chicago:20240221T160000
LOCATION:
SUMMARY:Beattie Elementary School SMART Girls Club
END:VEVENT
END:VCALENDAR
