BEGIN:VCALENDAR
VERSION:2.0
PRODID:-//www.ywcalincoln.org//NONSGML kigkonsult.se iCalcreator 2.30.10//
CALSCALE:GREGORIAN
METHOD:PUBLISH
UID:8eef5335-3f45-4de4-8f82-34bac46fc37d
X-WR-CALDESC:
X-WR-RELCALID:29d06ce4447521fde2f0bdba413a5ca6
X-WR-TIMEZONE:America/Chicago
BEGIN:VTIMEZONE
TZID:America/Chicago
BEGIN:STANDARD
TZNAME:CST
DTSTART:20231105T020000
TZOFFSETFROM:-0500
TZOFFSETTO:-0600
RDATE:20241103T020000
END:STANDARD
BEGIN:DAYLIGHT
TZNAME:CDT
DTSTART:20230312T020000
TZOFFSETFROM:-0600
TZOFFSETTO:-0500
RDATE:20240310T020000
RDATE:20250309T020000
END:DAYLIGHT
END:VTIMEZONE
BEGIN:VEVENT
UID:7381688b-1877-43bc-8ad2-c074866961e1
DTSTAMP:20260423T055808Z
DESCRIPTION:
DTSTART;TZID=America/Chicago:20240219T153000
DTEND;TZID=America/Chicago:20240219T170000
LOCATION:
SUMMARY:Lincoln High School CATCH Program
END:VEVENT
END:VCALENDAR
