BEGIN:VCALENDAR
VERSION:2.0
PRODID:-//www.ywcalincoln.org//NONSGML kigkonsult.se iCalcreator 2.30.10//
CALSCALE:GREGORIAN
METHOD:PUBLISH
UID:8aa03995-8168-4c0f-bef7-e9c3da4a1764
X-WR-CALDESC:
X-WR-RELCALID:656a8b043e0925a6cd04d4fef6372801
X-WR-TIMEZONE:America/Chicago
BEGIN:VTIMEZONE
TZID:America/Chicago
BEGIN:STANDARD
TZNAME:CST
DTSTART:20231105T020000
TZOFFSETFROM:-0500
TZOFFSETTO:-0600
RDATE:20241103T020000
END:STANDARD
BEGIN:DAYLIGHT
TZNAME:CDT
DTSTART:20230312T020000
TZOFFSETFROM:-0600
TZOFFSETTO:-0500
RDATE:20240310T020000
RDATE:20250309T020000
END:DAYLIGHT
END:VTIMEZONE
BEGIN:VEVENT
UID:ebbe9c0d-029d-4f48-8746-fdd3593b02eb
DTSTAMP:20260423T060403Z
DESCRIPTION:
DTSTART;TZID=America/Chicago:20240216T094500
DTEND;TZID=America/Chicago:20240216T114500
LOCATION:
SUMMARY:Goodrich Middle School Girls Circle
END:VEVENT
END:VCALENDAR
