BEGIN:VCALENDAR
VERSION:2.0
PRODID:-//www.ywcalincoln.org//NONSGML kigkonsult.se iCalcreator 2.30.10//
CALSCALE:GREGORIAN
METHOD:PUBLISH
UID:6e66fe9a-2e1c-4268-8e82-37a7bb5aed01
X-WR-CALDESC:
X-WR-RELCALID:54d03a68183b1cd17e36759798193488
X-WR-TIMEZONE:America/Chicago
BEGIN:VTIMEZONE
TZID:America/Chicago
BEGIN:STANDARD
TZNAME:CST
DTSTART:20231105T020000
TZOFFSETFROM:-0500
TZOFFSETTO:-0600
RDATE:20241103T020000
END:STANDARD
BEGIN:DAYLIGHT
TZNAME:CDT
DTSTART:20230312T020000
TZOFFSETFROM:-0600
TZOFFSETTO:-0500
RDATE:20240310T020000
RDATE:20250309T020000
END:DAYLIGHT
END:VTIMEZONE
BEGIN:VEVENT
UID:1557fab3-2a7b-4c60-8cbd-a7ed29ca1cdc
DTSTAMP:20260423T060146Z
DESCRIPTION:
DTSTART;TZID=America/Chicago:20240215T093000
DTEND;TZID=America/Chicago:20240215T110500
LOCATION:
SUMMARY:Culler Middle School Girls Circle
END:VEVENT
END:VCALENDAR
