BEGIN:VCALENDAR
VERSION:2.0
PRODID:-//www.ywcalincoln.org//NONSGML kigkonsult.se iCalcreator 2.30.10//
CALSCALE:GREGORIAN
METHOD:PUBLISH
UID:39fceda2-8643-4ed9-bf77-9fa6026440ae
X-WR-CALDESC:
X-WR-RELCALID:74f38f13603b1968a629218596d8f553
X-WR-TIMEZONE:America/Chicago
BEGIN:VTIMEZONE
TZID:America/Chicago
BEGIN:STANDARD
TZNAME:CST
DTSTART:20231105T020000
TZOFFSETFROM:-0500
TZOFFSETTO:-0600
RDATE:20241103T020000
END:STANDARD
BEGIN:DAYLIGHT
TZNAME:CDT
DTSTART:20230312T020000
TZOFFSETFROM:-0600
TZOFFSETTO:-0500
RDATE:20240310T020000
RDATE:20250309T020000
END:DAYLIGHT
END:VTIMEZONE
BEGIN:VEVENT
UID:ba9d4323-619c-4feb-a420-5259f77cce1b
DTSTAMP:20260423T055808Z
DESCRIPTION:
DTSTART;TZID=America/Chicago:20240212T153000
DTEND;TZID=America/Chicago:20240212T170000
LOCATION:
SUMMARY:Lincoln High School CATCH Program
END:VEVENT
END:VCALENDAR
