BEGIN:VCALENDAR
VERSION:2.0
PRODID:-//www.ywcalincoln.org//NONSGML kigkonsult.se iCalcreator 2.30.10//
CALSCALE:GREGORIAN
METHOD:PUBLISH
UID:c0e1b1ef-5d1f-4a03-851d-37efa4159f06
X-WR-CALDESC:Belmont Community Center
X-WR-RELCALID:63ef6bf925c03c92a90cc523c50ac285
X-WR-TIMEZONE:America/Chicago
BEGIN:VTIMEZONE
TZID:America/Chicago
BEGIN:STANDARD
TZNAME:CST
DTSTART:20231105T020000
TZOFFSETFROM:-0500
TZOFFSETTO:-0600
RDATE:20241103T020000
END:STANDARD
BEGIN:DAYLIGHT
TZNAME:CDT
DTSTART:20230312T020000
TZOFFSETFROM:-0600
TZOFFSETTO:-0500
RDATE:20240310T020000
RDATE:20250309T020000
END:DAYLIGHT
END:VTIMEZONE
BEGIN:VEVENT
UID:68dc1497-e894-4b35-a978-1109ef76c44c
DTSTAMP:20260423T055807Z
DESCRIPTION:Belmont Community Center
DTSTART;TZID=America/Chicago:20240209T180000
DTEND;TZID=America/Chicago:20240209T200000
LOCATION:3335 N 12th St\, Lincoln\, NE 68521 US
SUMMARY:Take A Break
END:VEVENT
END:VCALENDAR
