BEGIN:VCALENDAR
VERSION:2.0
PRODID:-//www.ywcalincoln.org//NONSGML kigkonsult.se iCalcreator 2.30.10//
CALSCALE:GREGORIAN
METHOD:PUBLISH
UID:7769d077-d3e6-4f05-8e36-604f02806e88
X-WR-CALDESC:
X-WR-RELCALID:524cbe3e962b8842a87b805e9f1ea855
X-WR-TIMEZONE:America/Chicago
BEGIN:VTIMEZONE
TZID:America/Chicago
BEGIN:STANDARD
TZNAME:CST
DTSTART:20231105T020000
TZOFFSETFROM:-0500
TZOFFSETTO:-0600
RDATE:20241103T020000
END:STANDARD
BEGIN:DAYLIGHT
TZNAME:CDT
DTSTART:20230312T020000
TZOFFSETFROM:-0600
TZOFFSETTO:-0500
RDATE:20240310T020000
RDATE:20250309T020000
END:DAYLIGHT
END:VTIMEZONE
BEGIN:VEVENT
UID:e5d80230-e069-478a-bf5e-bf81fcb61bd6
DTSTAMP:20260423T060510Z
DESCRIPTION:
DTSTART;TZID=America/Chicago:20240201T144500
DTEND;TZID=America/Chicago:20240201T160000
LOCATION:
SUMMARY:Holmes Elementary School SMART Girls Club
END:VEVENT
END:VCALENDAR
