BEGIN:VCALENDAR
VERSION:2.0
PRODID:-//www.ywcalincoln.org//NONSGML kigkonsult.se iCalcreator 2.30.10//
CALSCALE:GREGORIAN
METHOD:PUBLISH
UID:c8402895-3d7c-4b04-abc4-11e37bda93c5
X-WR-CALDESC:
X-WR-RELCALID:171cd9c47e7ce5054b8182cd230bf0e6
X-WR-TIMEZONE:America/Chicago
BEGIN:VTIMEZONE
TZID:America/Chicago
BEGIN:STANDARD
TZNAME:CST
DTSTART:20231105T020000
TZOFFSETFROM:-0500
TZOFFSETTO:-0600
RDATE:20241103T020000
END:STANDARD
BEGIN:DAYLIGHT
TZNAME:CDT
DTSTART:20230312T020000
TZOFFSETFROM:-0600
TZOFFSETTO:-0500
RDATE:20240310T020000
RDATE:20250309T020000
END:DAYLIGHT
END:VTIMEZONE
BEGIN:VEVENT
UID:325ffd67-e2df-426d-b9fa-704a5c8e9908
DTSTAMP:20260423T080043Z
DESCRIPTION:
DTSTART;TZID=America/Chicago:20240126T094500
DTEND;TZID=America/Chicago:20240126T114500
LOCATION:
SUMMARY:Goodrich Middle School Girls Circle
END:VEVENT
END:VCALENDAR
