BEGIN:VCALENDAR
VERSION:2.0
PRODID:-//www.ywcalincoln.org//NONSGML kigkonsult.se iCalcreator 2.30.10//
CALSCALE:GREGORIAN
METHOD:PUBLISH
UID:186a5719-8bb5-4a36-a21f-35b64c051975
X-WR-CALDESC:
X-WR-RELCALID:d756edf2b1a74d9b317acf5a6098a21e
X-WR-TIMEZONE:America/Chicago
BEGIN:VTIMEZONE
TZID:America/Chicago
BEGIN:STANDARD
TZNAME:CST
DTSTART:20231105T020000
TZOFFSETFROM:-0500
TZOFFSETTO:-0600
RDATE:20241103T020000
END:STANDARD
BEGIN:DAYLIGHT
TZNAME:CDT
DTSTART:20230312T020000
TZOFFSETFROM:-0600
TZOFFSETTO:-0500
RDATE:20240310T020000
RDATE:20250309T020000
END:DAYLIGHT
END:VTIMEZONE
BEGIN:VEVENT
UID:fb7f620d-1e0c-444c-8af1-d73e216dc1dd
DTSTAMP:20260423T080558Z
DESCRIPTION:
DTSTART;TZID=America/Chicago:20240124T144500
DTEND;TZID=America/Chicago:20240124T160000
LOCATION:
SUMMARY:Beattie Elementary School SMART Girls Club
END:VEVENT
END:VCALENDAR
