BEGIN:VCALENDAR
VERSION:2.0
PRODID:-//www.ywcalincoln.org//NONSGML kigkonsult.se iCalcreator 2.30.10//
CALSCALE:GREGORIAN
METHOD:PUBLISH
UID:c353997e-3a0e-46cf-a1ef-9bdb670c4155
X-WR-CALDESC:
X-WR-RELCALID:58705bedb3b55f8ed6df908080ab1023
X-WR-TIMEZONE:America/Chicago
BEGIN:VTIMEZONE
TZID:America/Chicago
BEGIN:STANDARD
TZNAME:CST
DTSTART:20231105T020000
TZOFFSETFROM:-0500
TZOFFSETTO:-0600
RDATE:20241103T020000
END:STANDARD
BEGIN:DAYLIGHT
TZNAME:CDT
DTSTART:20230312T020000
TZOFFSETFROM:-0600
TZOFFSETTO:-0500
RDATE:20240310T020000
RDATE:20250309T020000
END:DAYLIGHT
END:VTIMEZONE
BEGIN:VEVENT
UID:545a9e75-0665-408b-8a63-95ca0b1bf76e
DTSTAMP:20260423T075922Z
DESCRIPTION:
DTSTART;TZID=America/Chicago:20240118T094500
DTEND;TZID=America/Chicago:20240118T114500
LOCATION:
SUMMARY:Irving Middle School Girls Circle
END:VEVENT
END:VCALENDAR
