BEGIN:VCALENDAR
VERSION:2.0
PRODID:-//www.ywcalincoln.org//NONSGML kigkonsult.se iCalcreator 2.30.10//
CALSCALE:GREGORIAN
METHOD:PUBLISH
UID:30f1ada9-22c8-498e-999c-d4316c828160
X-WR-CALDESC:
X-WR-RELCALID:72353eb1a0d8f6b80bc93b8fe7e17e00
X-WR-TIMEZONE:America/Chicago
BEGIN:VTIMEZONE
TZID:America/Chicago
BEGIN:STANDARD
TZNAME:CST
DTSTART:20231105T020000
TZOFFSETFROM:-0500
TZOFFSETTO:-0600
RDATE:20241103T020000
END:STANDARD
BEGIN:DAYLIGHT
TZNAME:CDT
DTSTART:20230312T020000
TZOFFSETFROM:-0600
TZOFFSETTO:-0500
RDATE:20240310T020000
RDATE:20250309T020000
END:DAYLIGHT
END:VTIMEZONE
BEGIN:VEVENT
UID:e36001b7-c6d4-4022-86f1-b575d4231af6
DTSTAMP:20260423T094428Z
DESCRIPTION:
DTSTART;TZID=America/Chicago:20231221T094500
DTEND;TZID=America/Chicago:20231221T114500
LOCATION:
SUMMARY:Irving Middle School Girls Circle
END:VEVENT
END:VCALENDAR
