BEGIN:VCALENDAR
VERSION:2.0
PRODID:-//www.ywcalincoln.org//NONSGML kigkonsult.se iCalcreator 2.30.10//
CALSCALE:GREGORIAN
METHOD:PUBLISH
UID:1d029083-598c-4cf9-a0d6-0278be5eb3ff
X-WR-CALDESC:
X-WR-RELCALID:7712afbd2c4c3eb61a966cf40ff815e8
X-WR-TIMEZONE:America/Chicago
BEGIN:VTIMEZONE
TZID:America/Chicago
BEGIN:STANDARD
TZNAME:CST
DTSTART:20231105T020000
TZOFFSETFROM:-0500
TZOFFSETTO:-0600
RDATE:20241103T020000
END:STANDARD
BEGIN:DAYLIGHT
TZNAME:CDT
DTSTART:20230312T020000
TZOFFSETFROM:-0600
TZOFFSETTO:-0500
RDATE:20240310T020000
RDATE:20250309T020000
END:DAYLIGHT
END:VTIMEZONE
BEGIN:VEVENT
UID:8f99af86-f33b-4cf2-a4d8-92fb7678bbc4
DTSTAMP:20260423T094946Z
DESCRIPTION:
DTSTART;TZID=America/Chicago:20231215T094500
DTEND;TZID=America/Chicago:20231215T114500
LOCATION:
SUMMARY:Goodrich Middle School Girls Circle
END:VEVENT
END:VCALENDAR
