BEGIN:VCALENDAR
VERSION:2.0
PRODID:-//www.ywcalincoln.org//NONSGML kigkonsult.se iCalcreator 2.30.10//
CALSCALE:GREGORIAN
METHOD:PUBLISH
UID:2c57bc40-d4dc-4539-89ec-8584eec49898
X-WR-CALDESC:
X-WR-RELCALID:7583f6accb708f1e47ca0d81eb9b2362
X-WR-TIMEZONE:America/Chicago
BEGIN:VTIMEZONE
TZID:America/Chicago
BEGIN:STANDARD
TZNAME:CST
DTSTART:20231105T020000
TZOFFSETFROM:-0500
TZOFFSETTO:-0600
RDATE:20241103T020000
END:STANDARD
BEGIN:DAYLIGHT
TZNAME:CDT
DTSTART:20230312T020000
TZOFFSETFROM:-0600
TZOFFSETTO:-0500
RDATE:20240310T020000
RDATE:20250309T020000
END:DAYLIGHT
END:VTIMEZONE
BEGIN:VEVENT
UID:eaaf1126-65af-4766-ae00-0e3a3014fb0b
DTSTAMP:20260423T095318Z
DESCRIPTION:
DTSTART;TZID=America/Chicago:20231211T153000
DTEND;TZID=America/Chicago:20231211T170000
LOCATION:
SUMMARY:Lincoln High School CATCH Program with Guest Speaker: Henry Doorly 
 Educator Summer Larkihn
END:VEVENT
END:VCALENDAR
