BEGIN:VCALENDAR
VERSION:2.0
PRODID:-//www.ywcalincoln.org//NONSGML kigkonsult.se iCalcreator 2.30.10//
CALSCALE:GREGORIAN
METHOD:PUBLISH
UID:43ec1f8f-1233-4243-a70b-21c3a513629d
X-WR-CALDESC:
X-WR-RELCALID:e3b5f5f26b20bf157f24b80ce2273765
X-WR-TIMEZONE:America/Chicago
BEGIN:VTIMEZONE
TZID:America/Chicago
BEGIN:STANDARD
TZNAME:CST
DTSTART:20231105T020000
TZOFFSETFROM:-0500
TZOFFSETTO:-0600
RDATE:20241103T020000
END:STANDARD
BEGIN:DAYLIGHT
TZNAME:CDT
DTSTART:20230312T020000
TZOFFSETFROM:-0600
TZOFFSETTO:-0500
RDATE:20240310T020000
RDATE:20250309T020000
END:DAYLIGHT
END:VTIMEZONE
BEGIN:VEVENT
UID:2ee8213f-15f5-4994-8d62-72a1d00bc7cd
DTSTAMP:20260423T095150Z
DESCRIPTION:
DTSTART;TZID=America/Chicago:20231207T144500
DTEND;TZID=America/Chicago:20231207T160000
LOCATION:
SUMMARY:Holmes Elementary School SMART Girls Club
END:VEVENT
END:VCALENDAR
